BEGIN:VCALENDAR
VERSION:2.0
PRODID:-//Nanaimo Equestrian Association - ECPv6.15.20//NONSGML v1.0//EN
CALSCALE:GREGORIAN
METHOD:PUBLISH
X-WR-CALNAME:Nanaimo Equestrian Association
X-ORIGINAL-URL:https://www.nanaimoequestrians.ca
X-WR-CALDESC:Events for Nanaimo Equestrian Association
REFRESH-INTERVAL;VALUE=DURATION:PT1H
X-Robots-Tag:noindex
X-PUBLISHED-TTL:PT1H
BEGIN:VTIMEZONE
TZID:America/Vancouver
BEGIN:DAYLIGHT
TZOFFSETFROM:-0800
TZOFFSETTO:-0700
TZNAME:PDT
DTSTART:20220313T100000
END:DAYLIGHT
BEGIN:STANDARD
TZOFFSETFROM:-0700
TZOFFSETTO:-0800
TZNAME:PST
DTSTART:20221106T090000
END:STANDARD
BEGIN:DAYLIGHT
TZOFFSETFROM:-0800
TZOFFSETTO:-0700
TZNAME:PDT
DTSTART:20230312T100000
END:DAYLIGHT
BEGIN:STANDARD
TZOFFSETFROM:-0700
TZOFFSETTO:-0800
TZNAME:PST
DTSTART:20231105T090000
END:STANDARD
BEGIN:DAYLIGHT
TZOFFSETFROM:-0800
TZOFFSETTO:-0700
TZNAME:PDT
DTSTART:20240310T100000
END:DAYLIGHT
BEGIN:STANDARD
TZOFFSETFROM:-0700
TZOFFSETTO:-0800
TZNAME:PST
DTSTART:20241103T090000
END:STANDARD
END:VTIMEZONE
BEGIN:VEVENT
DTSTART;VALUE=DATE:20230407
DTEND;VALUE=DATE:20230408
DTSTAMP:20260423T065212
CREATED:20230122T193118Z
LAST-MODIFIED:20230122T203806Z
UID:5947-1680825600-1680911999@www.nanaimoequestrians.ca
SUMMARY:Easter Fund Raiser for Central Island Equestrian Center 9:30 am to 3:00pm
DESCRIPTION:Come out and support CIEC fund raiser\, to help their students attend the Milner Downs Horse show in Langley BC this coming July 2023: \nPony rides $5.00\, Cookie decorations per cookie kit $5.00\, guessing game at .25 cents per guess AND of course Easter Egg Hunt 1 child for $3.00 or 2 children for $5.00. \nThere will be Photography: BY DONATION\nWith 2-3 hay bales\, blankets and Easter décor. \n1 photo will be emailed to each family right away. \nConcession/BBQ on site : \nhot dog\nhamburgers\npop\nJuice boxes\nwater\nchips\nCoffee \n 
URL:https://www.nanaimoequestrians.ca/event/easter-fund-raiser-for-central-island-equestrian-center/
LOCATION:Nanaimo Equestrian Association\, 2300 Bowen\, Nanaimo\, BC\, V9T 3K7\, Canada
CATEGORIES:Ongoing Events,Up Coming Events
ORGANIZER;CN="The Central Island Equestrian Center":MAILTO:gkoshea@shaw.ca
END:VEVENT
BEGIN:VEVENT
DTSTART;VALUE=DATE:20230423
DTEND;VALUE=DATE:20230424
DTSTAMP:20260423T065212
CREATED:20230122T210617Z
LAST-MODIFIED:20230215T043710Z
UID:5962-1682208000-1682294399@www.nanaimoequestrians.ca
SUMMARY:Nanaimo Dressage show
DESCRIPTION:
URL:https://www.nanaimoequestrians.ca/event/monique-fraser-dressage-schooling-show-3/
LOCATION:Nanaimo Equestrian Association\, 2300 Bowen\, Nanaimo\, BC\, V9T 3K7\, Canada
CATEGORIES:Ongoing Events,Up Coming Events
ORGANIZER;CN="Monique Fraser":MAILTO:rosewyn2@gmail.com
END:VEVENT
BEGIN:VEVENT
DTSTART;VALUE=DATE:20230429
DTEND;VALUE=DATE:20230430
DTSTAMP:20260423T065212
CREATED:20230122T211229Z
LAST-MODIFIED:20230221T193820Z
UID:5966-1682726400-1682812799@www.nanaimoequestrians.ca
SUMMARY:Introduction to Carriage driving - 1 day clinic for all sizes of equines
DESCRIPTION:  \nContact Sue at suebutkiewicz@telus.net
URL:https://www.nanaimoequestrians.ca/event/2-full-day-carriage-driving-clinic/
LOCATION:Nanaimo Equestrian Association\, 2300 Bowen\, Nanaimo\, BC\, V9T 3K7\, Canada
CATEGORIES:Ongoing Events,Up Coming Events
ORGANIZER;CN="Susan Butkiewicz":MAILTO:suebutkiewicz@telus.net
END:VEVENT
END:VCALENDAR