BEGIN:VCALENDAR
VERSION:2.0
PRODID:-//Nanaimo Equestrian Association - ECPv6.15.20//NONSGML v1.0//EN
CALSCALE:GREGORIAN
METHOD:PUBLISH
X-ORIGINAL-URL:https://www.nanaimoequestrians.ca
X-WR-CALDESC:Events for Nanaimo Equestrian Association
REFRESH-INTERVAL;VALUE=DURATION:PT1H
X-Robots-Tag:noindex
X-PUBLISHED-TTL:PT1H
BEGIN:VTIMEZONE
TZID:America/Vancouver
BEGIN:DAYLIGHT
TZOFFSETFROM:-0800
TZOFFSETTO:-0700
TZNAME:PDT
DTSTART:20220313T100000
END:DAYLIGHT
BEGIN:STANDARD
TZOFFSETFROM:-0700
TZOFFSETTO:-0800
TZNAME:PST
DTSTART:20221106T090000
END:STANDARD
BEGIN:DAYLIGHT
TZOFFSETFROM:-0800
TZOFFSETTO:-0700
TZNAME:PDT
DTSTART:20230312T100000
END:DAYLIGHT
BEGIN:STANDARD
TZOFFSETFROM:-0700
TZOFFSETTO:-0800
TZNAME:PST
DTSTART:20231105T090000
END:STANDARD
BEGIN:DAYLIGHT
TZOFFSETFROM:-0800
TZOFFSETTO:-0700
TZNAME:PDT
DTSTART:20240310T100000
END:DAYLIGHT
BEGIN:STANDARD
TZOFFSETFROM:-0700
TZOFFSETTO:-0800
TZNAME:PST
DTSTART:20241103T090000
END:STANDARD
BEGIN:DAYLIGHT
TZOFFSETFROM:-0800
TZOFFSETTO:-0700
TZNAME:PDT
DTSTART:20250309T100000
END:DAYLIGHT
BEGIN:STANDARD
TZOFFSETFROM:-0700
TZOFFSETTO:-0800
TZNAME:PST
DTSTART:20251102T090000
END:STANDARD
END:VTIMEZONE
BEGIN:VEVENT
DTSTART;VALUE=DATE:20230715
DTEND;VALUE=DATE:20230717
DTSTAMP:20260423T030827
CREATED:20230123T023812Z
LAST-MODIFIED:20230123T024250Z
UID:5970-1689379200-1689551999@www.nanaimoequestrians.ca
SUMMARY:Jim Greendyk Performance Horses - Full 2 day clinic
DESCRIPTION:Jim Greendyk has earned his reputation as one of Western Canada’s most successful riders\, trainers and coaches of Reining Horses with a proven record of successfully competing in both Canada and the USA. In addition\, Jim has the trust of International Clients from European countries who choose to leave their horses in Jim’s care to train and show. \nAs an Open Rider since the age of 20\, Jim’s unparalleled talent\, tenacity\, and adaptability in the show pen has been proven time and time again\, often beating competitors with many more years of experience. There is no doubt that Jim is a trainer who can really “get a horse shown”. On the international stage\, Jim can now say that many of those who were his idols are now his rivals. \nAlways ready to learn from others\, Jim has and continues to ride with some of the industry’s best trainers in order to further his knowledge year by year. \nJim expects a very high standard of performance from himself and his horses and has a timing and balance that many will never achieve. This uncanny ability has allowed him to rise quickly and consistently over the years to become one of the top reining trainers in Western Canada\, achieving success on Arabs\, Half Arabs and Quarter Horses. He didn’t end up at this level of excellence by accident. Since his start in the Porcupine Hills of Southern Alberta\, he has taken everything that anyone has ever taught him and elevated it to the next level to move himself and his horses up through the industry quickly. Often\, Jim can tease out a level of ability from a horse that others are not able to find.
URL:https://www.nanaimoequestrians.ca/event/jim-greendyk-2-day-clinic/
LOCATION:Nanaimo Equestrian Association\, 2300 Bowen\, Nanaimo\, BC\, V9T 3K7\, Canada
CATEGORIES:Ongoing Events,Up Coming Events
ORGANIZER;CN="Nanaimo Equestrian Association":MAILTO:nanaimoequestrians@gmail.com
END:VEVENT
BEGIN:VEVENT
DTSTART;TZID=America/Vancouver:20230721T080000
DTEND;TZID=America/Vancouver:20240101T170000
DTSTAMP:20260423T030827
CREATED:20230721T155355Z
LAST-MODIFIED:20230721T155507Z
UID:6060-1689926400-1704128400@www.nanaimoequestrians.ca
SUMMARY:Go Fund Me  Raise the Roofs
DESCRIPTION:NEA is the group that manages Beban Park Equestrian Center. It is a non-profit society\, with volunteers creating a professional and well maintained site for equestrian and non-equestrian events. \nAt this time NEA has set up a Go Fund Me and is asking for your support to help raise money to replace the metal roofing on 2 of our 4 barns. \n  \nPlease see link below\, if you are able to make a donation. \n  \nThank you for your support\, \n  \nNEA \n  \n 
URL:https://www.nanaimoequestrians.ca/event/go-fund-me-raise-the-roofs/
LOCATION:BC
CATEGORIES:Ongoing Events,Past Events,Up Coming Events
ORGANIZER;CN="Nanaimo Equestrian Association":MAILTO:nanaimoequestrians@gmail.com
END:VEVENT
BEGIN:VEVENT
DTSTART;VALUE=DATE:20230723
DTEND;VALUE=DATE:20230724
DTSTAMP:20260423T030827
CREATED:20230208T192954Z
LAST-MODIFIED:20230721T152511Z
UID:5992-1690070400-1690156799@www.nanaimoequestrians.ca
SUMMARY:All Pony Show ** regretfully cancelled due to insufficient entries **
DESCRIPTION:[vc_row][vc_column][vc_column_text] \nNanaimo Equestrian Association\nAll Pony Show \nSunday July 23\, 2023 \nFun Show for all ponies ridden/driven by children or adults.\nHalter\, In-Hand Agility\, Trail\, English\, Western\, Games\, Driving\nHorse Council BC General Performance Show \nForms to Download \nPrize List  —  Entry Form \nJudges:  \n\nFonda Munro (Trail and Agility)\nTina Knott (Halter and Driving)\nBarb Parker (Performance)\n\nAWARDS: \nRibbons will be awarded first to sixth. \nHi Point Aggregate Rider/Driver Awards: \n\nJunior C/Adult\nJunior A/B\n\nPoint Aggregate Pony Awards (does not include halter\, lead line or costume classes): \n\nVSE\nSmall/Med Pony\nLarge Pony\nMost Versatile Pony\n\nThe Horse Council BC Rule Book\, will be used and can be found at the following link: http://www.hcbc.ca/Competition-Documents.html[/vc_column_text][/vc_column][/vc_row]
URL:https://www.nanaimoequestrians.ca/event/all-pony-show/
LOCATION:Nanaimo Equestrian Association\, 2300 Bowen\, Nanaimo\, BC\, V9T 3K7\, Canada
CATEGORIES:Ongoing Events,Up Coming Events
ORGANIZER;CN="Nanaimo Equestrian Association":MAILTO:nanaimoequestrians@gmail.com
END:VEVENT
END:VCALENDAR