BEGIN:VCALENDAR
VERSION:2.0
PRODID:-//Nanaimo Equestrian Association - ECPv6.15.20//NONSGML v1.0//EN
CALSCALE:GREGORIAN
METHOD:PUBLISH
X-ORIGINAL-URL:https://www.nanaimoequestrians.ca
X-WR-CALDESC:Events for Nanaimo Equestrian Association
REFRESH-INTERVAL;VALUE=DURATION:PT1H
X-Robots-Tag:noindex
X-PUBLISHED-TTL:PT1H
BEGIN:VTIMEZONE
TZID:America/Vancouver
BEGIN:DAYLIGHT
TZOFFSETFROM:-0800
TZOFFSETTO:-0700
TZNAME:PDT
DTSTART:20220313T100000
END:DAYLIGHT
BEGIN:STANDARD
TZOFFSETFROM:-0700
TZOFFSETTO:-0800
TZNAME:PST
DTSTART:20221106T090000
END:STANDARD
BEGIN:DAYLIGHT
TZOFFSETFROM:-0800
TZOFFSETTO:-0700
TZNAME:PDT
DTSTART:20230312T100000
END:DAYLIGHT
BEGIN:STANDARD
TZOFFSETFROM:-0700
TZOFFSETTO:-0800
TZNAME:PST
DTSTART:20231105T090000
END:STANDARD
BEGIN:DAYLIGHT
TZOFFSETFROM:-0800
TZOFFSETTO:-0700
TZNAME:PDT
DTSTART:20240310T100000
END:DAYLIGHT
BEGIN:STANDARD
TZOFFSETFROM:-0700
TZOFFSETTO:-0800
TZNAME:PST
DTSTART:20241103T090000
END:STANDARD
BEGIN:DAYLIGHT
TZOFFSETFROM:-0800
TZOFFSETTO:-0700
TZNAME:PDT
DTSTART:20250309T100000
END:DAYLIGHT
BEGIN:STANDARD
TZOFFSETFROM:-0700
TZOFFSETTO:-0800
TZNAME:PST
DTSTART:20251102T090000
END:STANDARD
END:VTIMEZONE
BEGIN:VEVENT
DTSTART;TZID=America/Vancouver:20230721T080000
DTEND;TZID=America/Vancouver:20240101T170000
DTSTAMP:20260422T213049
CREATED:20230721T155355Z
LAST-MODIFIED:20230721T155507Z
UID:6060-1689926400-1704128400@www.nanaimoequestrians.ca
SUMMARY:Go Fund Me  Raise the Roofs
DESCRIPTION:NEA is the group that manages Beban Park Equestrian Center. It is a non-profit society\, with volunteers creating a professional and well maintained site for equestrian and non-equestrian events. \nAt this time NEA has set up a Go Fund Me and is asking for your support to help raise money to replace the metal roofing on 2 of our 4 barns. \n  \nPlease see link below\, if you are able to make a donation. \n  \nThank you for your support\, \n  \nNEA \n  \n 
URL:https://www.nanaimoequestrians.ca/event/go-fund-me-raise-the-roofs/
LOCATION:BC
CATEGORIES:Ongoing Events,Past Events,Up Coming Events
ORGANIZER;CN="Nanaimo Equestrian Association":MAILTO:nanaimoequestrians@gmail.com
END:VEVENT
BEGIN:VEVENT
DTSTART;TZID=America/Vancouver:20231114T080000
DTEND;TZID=America/Vancouver:20231117T170000
DTSTAMP:20260422T213049
CREATED:20230923T195820Z
LAST-MODIFIED:20230923T195820Z
UID:6070-1699948800-1700240400@www.nanaimoequestrians.ca
SUMMARY:4 day Josh Nichol Clinic Nov 14 to 17th
DESCRIPTION:
URL:https://www.nanaimoequestrians.ca/event/4-day-josh-nichol-clinic-nov-14-to-17th/
LOCATION:Nanaimo Equestrian Association\, 2300 Bowen\, Nanaimo\, BC\, V9T 3K7\, Canada
CATEGORIES:Ongoing Events,Up Coming Events
ORGANIZER;CN="Josh Nicol Clinic":MAILTO:islandali73@gmail.com
END:VEVENT
BEGIN:VEVENT
DTSTART;TZID=America/Vancouver:20231123T190000
DTEND;TZID=America/Vancouver:20231123T210000
DTSTAMP:20260422T213049
CREATED:20231011T202739Z
LAST-MODIFIED:20231011T202920Z
UID:6081-1700766000-1700773200@www.nanaimoequestrians.ca
SUMMARY:AGM Nov 23/23  in the Club House
DESCRIPTION:All executive positions will be available\, if you like to be on the board\, please put your name forward.
URL:https://www.nanaimoequestrians.ca/event/agm-nov-23-23-in-the-club-house/
LOCATION:Nanaimo Equestrian Association\, 2300 Bowen\, Nanaimo\, BC\, V9T 3K7\, Canada
CATEGORIES:Ongoing Events,Past Events,Up Coming Events
ORGANIZER;CN="Nanaimo Equestrian Association":MAILTO:nanaimoequestrians@gmail.com
END:VEVENT
END:VCALENDAR