BEGIN:VCALENDAR
VERSION:2.0
PRODID:-//Nanaimo Equestrian Association - ECPv6.15.20//NONSGML v1.0//EN
CALSCALE:GREGORIAN
METHOD:PUBLISH
X-WR-CALNAME:Nanaimo Equestrian Association
X-ORIGINAL-URL:https://www.nanaimoequestrians.ca
X-WR-CALDESC:Events for Nanaimo Equestrian Association
REFRESH-INTERVAL;VALUE=DURATION:PT1H
X-Robots-Tag:noindex
X-PUBLISHED-TTL:PT1H
BEGIN:VTIMEZONE
TZID:America/Vancouver
BEGIN:DAYLIGHT
TZOFFSETFROM:-0800
TZOFFSETTO:-0700
TZNAME:PDT
DTSTART:20230312T100000
END:DAYLIGHT
BEGIN:STANDARD
TZOFFSETFROM:-0700
TZOFFSETTO:-0800
TZNAME:PST
DTSTART:20231105T090000
END:STANDARD
BEGIN:DAYLIGHT
TZOFFSETFROM:-0800
TZOFFSETTO:-0700
TZNAME:PDT
DTSTART:20240310T100000
END:DAYLIGHT
BEGIN:STANDARD
TZOFFSETFROM:-0700
TZOFFSETTO:-0800
TZNAME:PST
DTSTART:20241103T090000
END:STANDARD
BEGIN:DAYLIGHT
TZOFFSETFROM:-0800
TZOFFSETTO:-0700
TZNAME:PDT
DTSTART:20250309T100000
END:DAYLIGHT
BEGIN:STANDARD
TZOFFSETFROM:-0700
TZOFFSETTO:-0800
TZNAME:PST
DTSTART:20251102T090000
END:STANDARD
END:VTIMEZONE
BEGIN:VEVENT
DTSTART;VALUE=DATE:20240316
DTEND;VALUE=DATE:20240317
DTSTAMP:20260422T155326
CREATED:20240315T222244Z
LAST-MODIFIED:20240315T222244Z
UID:6112-1710547200-1710633599@www.nanaimoequestrians.ca
SUMMARY:Obstacle Trail Clinic with Fonda Munro
DESCRIPTION:We are so excited to host the talented Fonda Munro at NEA on March 16/24 for a full day of learning about Obstacle Trail! \n  \nThank you for your interest\, this clinic is full. 
URL:https://www.nanaimoequestrians.ca/event/obstacle-trail-clinic-with-fonda-munro/
LOCATION:Nanaimo Equestrian Association\, 2300 Bowen\, Nanaimo\, BC\, V9T 3K7\, Canada
CATEGORIES:Ongoing Events,Past Events,Up Coming Events
ORGANIZER;CN="Nanaimo Equestrian Association":MAILTO:nanaimoequestrians@gmail.com
END:VEVENT
BEGIN:VEVENT
DTSTART;TZID=America/Vancouver:20240317T100000
DTEND;TZID=America/Vancouver:20240317T140000
DTSTAMP:20260422T155326
CREATED:20240312T161102Z
LAST-MODIFIED:20240312T161231Z
UID:6098-1710669600-1710684000@www.nanaimoequestrians.ca
SUMMARY:Happy St Patrick's Day Come challenge your horses with our amazing obstacle course
DESCRIPTION:Obstacle Fun day! \nMarch 17\, 2024 10am-2pm \nCome join us for some fun\, bring your horse & your friends. \nCome laugh & enjoy the course! \nIf you & your equestrian partner come dressed in green you can enter to win a door prize! \n  \nThis is a by donation per horse event and is open to the public.
URL:https://www.nanaimoequestrians.ca/event/happy-st-patricks-day-come-challenge-your-horses-with-our-amazing-obstacle-course/
LOCATION:Nanaimo Equestrian Association\, 2300 Bowen\, Nanaimo\, BC\, V9T 3K7\, Canada
CATEGORIES:Ongoing Events,Past Events,Up Coming Events
ORGANIZER;CN="Nanaimo Equestrian Association":MAILTO:nanaimoequestrians@gmail.com
END:VEVENT
BEGIN:VEVENT
DTSTART;TZID=America/Vancouver:20240329T090000
DTEND;TZID=America/Vancouver:20240329T160000
DTSTAMP:20260422T155326
CREATED:20240103T180427Z
LAST-MODIFIED:20240125T215114Z
UID:6092-1711702800-1711728000@www.nanaimoequestrians.ca
SUMMARY:Easter Fund Raiser for Central Island Equestrian Center
DESCRIPTION:C.I.E.C  Presents their Annual Easter Event Featuring Horse & Pony rides! \n  \nJoin Central Island Equestrian Center on the holiday-Good Friday-March 29th form 9-4. for a day of Easter FUN! \nCASH ONLY PLEASE \n  \nHorse & pony rides $5.00\, Easter egg hunt $3.00\, Cookie decorating $4.00 each or 3/$10.00\, Face painting\, Guessing game .25 cents\, and photo booth by donation. \n  \nHAPPY EASTER!! \n 
URL:https://www.nanaimoequestrians.ca/event/easter-fund-raiser-for-central-island-equestrian-center-2/
LOCATION:Nanaimo Equestrian Association\, 2300 Bowen\, Nanaimo\, BC\, V9T 3K7\, Canada
CATEGORIES:Ongoing Events,Up Coming Events
ORGANIZER;CN="The Central Island Equestrian Center":MAILTO:gkoshea@shaw.ca
END:VEVENT
END:VCALENDAR