BEGIN:VCALENDAR
VERSION:2.0
PRODID:-//Nanaimo Equestrian Association - ECPv6.15.20//NONSGML v1.0//EN
CALSCALE:GREGORIAN
METHOD:PUBLISH
X-ORIGINAL-URL:https://www.nanaimoequestrians.ca
X-WR-CALDESC:Events for Nanaimo Equestrian Association
REFRESH-INTERVAL;VALUE=DURATION:PT1H
X-Robots-Tag:noindex
X-PUBLISHED-TTL:PT1H
BEGIN:VTIMEZONE
TZID:America/Vancouver
BEGIN:DAYLIGHT
TZOFFSETFROM:-0800
TZOFFSETTO:-0700
TZNAME:PDT
DTSTART:20240310T100000
END:DAYLIGHT
BEGIN:STANDARD
TZOFFSETFROM:-0700
TZOFFSETTO:-0800
TZNAME:PST
DTSTART:20241103T090000
END:STANDARD
BEGIN:DAYLIGHT
TZOFFSETFROM:-0800
TZOFFSETTO:-0700
TZNAME:PDT
DTSTART:20250309T100000
END:DAYLIGHT
BEGIN:STANDARD
TZOFFSETFROM:-0700
TZOFFSETTO:-0800
TZNAME:PST
DTSTART:20251102T090000
END:STANDARD
BEGIN:DAYLIGHT
TZOFFSETFROM:-0800
TZOFFSETTO:-0700
TZNAME:PDT
DTSTART:20260308T100000
END:DAYLIGHT
BEGIN:STANDARD
TZOFFSETFROM:-0700
TZOFFSETTO:-0800
TZNAME:PST
DTSTART:20261101T090000
END:STANDARD
END:VTIMEZONE
BEGIN:VEVENT
DTSTART;VALUE=DATE:20250909
DTEND;VALUE=DATE:20250914
DTSTAMP:20260421T140424
CREATED:20250315T215340Z
LAST-MODIFIED:20250315T222215Z
UID:6140-1757376000-1757807999@www.nanaimoequestrians.ca
SUMMARY:BC 55+ Games Equestrian Event!  Sept 9-13/25
DESCRIPTION:The 55+ Games are an important part of the BC sport system and the largest annual multi-sport gathering event in the Province.
URL:https://www.nanaimoequestrians.ca/event/bc-55-games-equestrian-event/
LOCATION:Nanaimo Equestrian Association\, 2300 Bowen\, Nanaimo\, BC\, V9T 3K7\, Canada
CATEGORIES:Ongoing Events,Up Coming Events
ORGANIZER;CN="Nanaimo Equestrian Association":MAILTO:nanaimoequestrians@gmail.com
END:VEVENT
BEGIN:VEVENT
DTSTART;VALUE=DATE:20250919
DTEND;VALUE=DATE:20250922
DTSTAMP:20260421T140424
CREATED:20250820T150849Z
LAST-MODIFIED:20250820T150849Z
UID:6156-1758240000-1758499199@www.nanaimoequestrians.ca
SUMMARY:THE VIEX!  Your Country Fair!
DESCRIPTION:A Celebration of Community\, Culture\, and Entertainment!\n\n\n\n\nThe Vancouver Island Exhibition Association is excited to welcome you to Nanaimo’s 2025 Country Fair! With over 20\,000 visitors each year\, the VIEX is a celebration of community\, culture\, and entertainment. Whether you’re a longtime fairgoer or a first-time visitor\, there’s something for everyone at this year’s event! \nGet ready for the return of some of our most thrilling attractions\, including the awe-inspiring Global FMX freestyle motocross show\, the fan-favorite President’s Choice Super Dogs\, the legendary Yukon Dan Gold Panning experience\, and an exciting lineup of Main Stage Entertainment. Plus\, new for 2025\, we are thrilled to introduce the BC Country Music Association Stage\, showcasing incredible homegrown talent and rising stars in Canadian country music! \nOur theme\, “Proudly Local\, Wildly Canadian\,” celebrates the hardworking artisans\, performers\, and businesses that make our region unique. From live music and adrenaline-pumping performances to interactive exhibits and delicious local eats\, the VIEX is the perfect place to experience the best of Vancouver Island’s rich culture and community spirit. \nThe fair wouldn’t be possible without the dedication of our volunteers\, the generosity of our sponsors\, and the enthusiasm of our visitors. Whether you’re coming to cheer on the performers\, explore the exhibits\, or simply enjoy a fun-filled day with family and friends\, we can’t wait to welcome you to this unforgettable event. \nJoin us for three days of non-stop excitement\, unforgettable entertainment\, and cherished traditions. See you at the fair!
URL:https://www.nanaimoequestrians.ca/event/the-viex-your-country-fair/
LOCATION:Nanaimo Equestrian Association\, 2300 Bowen\, Nanaimo\, BC\, V9T 3K7\, Canada
CATEGORIES:Ongoing Events,Up Coming Events
ORGANIZER;CN="VIEX":MAILTO:infor@Viex.ca
END:VEVENT
END:VCALENDAR