BEGIN:VCALENDAR
VERSION:2.0
PRODID:-//Nanaimo Equestrian Association - ECPv6.15.20//NONSGML v1.0//EN
CALSCALE:GREGORIAN
METHOD:PUBLISH
X-ORIGINAL-URL:https://www.nanaimoequestrians.ca
X-WR-CALDESC:Events for Nanaimo Equestrian Association
REFRESH-INTERVAL;VALUE=DURATION:PT1H
X-Robots-Tag:noindex
X-PUBLISHED-TTL:PT1H
BEGIN:VTIMEZONE
TZID:America/Vancouver
BEGIN:DAYLIGHT
TZOFFSETFROM:-0800
TZOFFSETTO:-0700
TZNAME:PDT
DTSTART:20210314T100000
END:DAYLIGHT
BEGIN:STANDARD
TZOFFSETFROM:-0700
TZOFFSETTO:-0800
TZNAME:PST
DTSTART:20211107T090000
END:STANDARD
BEGIN:DAYLIGHT
TZOFFSETFROM:-0800
TZOFFSETTO:-0700
TZNAME:PDT
DTSTART:20220313T100000
END:DAYLIGHT
BEGIN:STANDARD
TZOFFSETFROM:-0700
TZOFFSETTO:-0800
TZNAME:PST
DTSTART:20221106T090000
END:STANDARD
BEGIN:DAYLIGHT
TZOFFSETFROM:-0800
TZOFFSETTO:-0700
TZNAME:PDT
DTSTART:20230312T100000
END:DAYLIGHT
BEGIN:STANDARD
TZOFFSETFROM:-0700
TZOFFSETTO:-0800
TZNAME:PST
DTSTART:20231105T090000
END:STANDARD
BEGIN:DAYLIGHT
TZOFFSETFROM:-0800
TZOFFSETTO:-0700
TZNAME:PDT
DTSTART:20240310T100000
END:DAYLIGHT
BEGIN:STANDARD
TZOFFSETFROM:-0700
TZOFFSETTO:-0800
TZNAME:PST
DTSTART:20241103T090000
END:STANDARD
END:VTIMEZONE
BEGIN:VEVENT
DTSTART;TZID=America/Vancouver:20221104T140000
DTEND;TZID=America/Vancouver:20230223T220000
DTSTAMP:20260423T150349
CREATED:20221025T180450Z
LAST-MODIFIED:20221031T223415Z
UID:5911-1667570400-1677189600@www.nanaimoequestrians.ca
SUMMARY:NEA member's Friday drop-in at $10.00 per hour from 2:00pm to10:00pm starting Nov 4/22 to Feb 24/23-Except Friday Nov 18/22
DESCRIPTION:
URL:https://www.nanaimoequestrians.ca/event/nea-members-friday-drop-in-at-10-00-per-hour-from-200pm-to-1000pm-starting-nov-4-22-to-feb-24-23/
LOCATION:Nanaimo Equestrian Association\, 2300 Bowen\, Nanaimo\, BC\, V9T 3K7\, Canada
CATEGORIES:Ongoing Events,Up Coming Events
ORGANIZER;CN="Nanaimo Equestrian Association":MAILTO:nanaimoequestrians@gmail.com
END:VEVENT
END:VCALENDAR