BEGIN:VCALENDAR
VERSION:2.0
PRODID:-//Nanaimo Equestrian Association - ECPv6.15.20//NONSGML v1.0//EN
CALSCALE:GREGORIAN
METHOD:PUBLISH
X-ORIGINAL-URL:https://www.nanaimoequestrians.ca
X-WR-CALDESC:Events for Nanaimo Equestrian Association
REFRESH-INTERVAL;VALUE=DURATION:PT1H
X-Robots-Tag:noindex
X-PUBLISHED-TTL:PT1H
BEGIN:VTIMEZONE
TZID:America/Vancouver
BEGIN:DAYLIGHT
TZOFFSETFROM:-0800
TZOFFSETTO:-0700
TZNAME:PDT
DTSTART:20220313T100000
END:DAYLIGHT
BEGIN:STANDARD
TZOFFSETFROM:-0700
TZOFFSETTO:-0800
TZNAME:PST
DTSTART:20221106T090000
END:STANDARD
BEGIN:DAYLIGHT
TZOFFSETFROM:-0800
TZOFFSETTO:-0700
TZNAME:PDT
DTSTART:20230312T100000
END:DAYLIGHT
BEGIN:STANDARD
TZOFFSETFROM:-0700
TZOFFSETTO:-0800
TZNAME:PST
DTSTART:20231105T090000
END:STANDARD
BEGIN:DAYLIGHT
TZOFFSETFROM:-0800
TZOFFSETTO:-0700
TZNAME:PDT
DTSTART:20240310T100000
END:DAYLIGHT
BEGIN:STANDARD
TZOFFSETFROM:-0700
TZOFFSETTO:-0800
TZNAME:PST
DTSTART:20241103T090000
END:STANDARD
END:VTIMEZONE
BEGIN:VEVENT
DTSTART;VALUE=DATE:20230312
DTEND;VALUE=DATE:20230313
DTSTAMP:20260423T093811
CREATED:20230130T161042Z
LAST-MODIFIED:20230130T161328Z
UID:5980-1678579200-1678665599@www.nanaimoequestrians.ca
SUMMARY:Spring Trailering Clinic with Keven Garecki
DESCRIPTION:
URL:https://www.nanaimoequestrians.ca/event/spring-trailering-clinic-with-keven-garecki/
LOCATION:Nanaimo Equestrian Association\, 2300 Bowen\, Nanaimo\, BC\, V9T 3K7\, Canada
CATEGORIES:Ongoing Events,Up Coming Events
ORGANIZER;CN="Nanaimo Equestrian Association":MAILTO:nanaimoequestrians@gmail.com
END:VEVENT
END:VCALENDAR