BEGIN:VCALENDAR
VERSION:2.0
PRODID:-//Nanaimo Equestrian Association - ECPv6.15.20//NONSGML v1.0//EN
CALSCALE:GREGORIAN
METHOD:PUBLISH
X-ORIGINAL-URL:https://www.nanaimoequestrians.ca
X-WR-CALDESC:Events for Nanaimo Equestrian Association
REFRESH-INTERVAL;VALUE=DURATION:PT1H
X-Robots-Tag:noindex
X-PUBLISHED-TTL:PT1H
BEGIN:VTIMEZONE
TZID:America/Vancouver
BEGIN:DAYLIGHT
TZOFFSETFROM:-0800
TZOFFSETTO:-0700
TZNAME:PDT
DTSTART:20220313T100000
END:DAYLIGHT
BEGIN:STANDARD
TZOFFSETFROM:-0700
TZOFFSETTO:-0800
TZNAME:PST
DTSTART:20221106T090000
END:STANDARD
BEGIN:DAYLIGHT
TZOFFSETFROM:-0800
TZOFFSETTO:-0700
TZNAME:PDT
DTSTART:20230312T100000
END:DAYLIGHT
BEGIN:STANDARD
TZOFFSETFROM:-0700
TZOFFSETTO:-0800
TZNAME:PST
DTSTART:20231105T090000
END:STANDARD
BEGIN:DAYLIGHT
TZOFFSETFROM:-0800
TZOFFSETTO:-0700
TZNAME:PDT
DTSTART:20240310T100000
END:DAYLIGHT
BEGIN:STANDARD
TZOFFSETFROM:-0700
TZOFFSETTO:-0800
TZNAME:PST
DTSTART:20241103T090000
END:STANDARD
END:VTIMEZONE
BEGIN:VEVENT
DTSTART;VALUE=DATE:20230506
DTEND;VALUE=DATE:20230508
DTSTAMP:20260423T070551
CREATED:20230208T184338Z
LAST-MODIFIED:20230208T184338Z
UID:5990-1683331200-1683503999@www.nanaimoequestrians.ca
SUMMARY:Learn to ride Bridleless Clinic with Ashley Bradspies Jaxvale Horsemanship
DESCRIPTION:Have you ever dreamt of riding your horse brideless? Maybe you’ve tried and not found success?\nBridleless riding is within everyone’s reach.\nNEA welcomes Ashley Bradspies of Jaxvale Horsemanship on May 6 & 7\, 2023 to help make that dream a reality!\n\nAshley will help you find the ultimate connection with your horse in a safe\, structured and supportive coaching environment. Riders will be in groups of no more than 4 riders and will receive 2 hours of instruction each day(total of 4 hours). Get a group of 4 friends together and come out for an awesome weekend of learning.\nSpace is limited. Max of 3 groups of 4 riders (12 riding spots)\nCost: $300.00 for riders for the weekend. A deposit of $150.00 is required with balance due the first day of clinic.\nAuditors $50/day or $75 for the weekend paid in advance.\nThis clinic is expected to sell out quickly\, so don’t delay in booking your spot. We will hold a waiting list.\nDeposits/auditor fees can be transferred to:\nnanaimoequestrians@gmail.com Please ensure you state ‘bridleless clinic’ in the comments of your etransfer.
URL:https://www.nanaimoequestrians.ca/event/learn-to-ride-bridleless-clinic-with-ashley-bradspies-jaxvale-horsemanship/
LOCATION:Nanaimo Equestrian Association\, 2300 Bowen\, Nanaimo\, BC\, V9T 3K7\, Canada
CATEGORIES:Ongoing Events,Up Coming Events
ORGANIZER;CN="Nanaimo Equestrian Association":MAILTO:nanaimoequestrians@gmail.com
END:VEVENT
END:VCALENDAR