BEGIN:VCALENDAR
VERSION:2.0
PRODID:-//Nanaimo Equestrian Association - ECPv6.15.20//NONSGML v1.0//EN
CALSCALE:GREGORIAN
METHOD:PUBLISH
X-WR-CALNAME:Nanaimo Equestrian Association
X-ORIGINAL-URL:https://www.nanaimoequestrians.ca
X-WR-CALDESC:Events for Nanaimo Equestrian Association
REFRESH-INTERVAL;VALUE=DURATION:PT1H
X-Robots-Tag:noindex
X-PUBLISHED-TTL:PT1H
BEGIN:VTIMEZONE
TZID:America/Vancouver
BEGIN:DAYLIGHT
TZOFFSETFROM:-0800
TZOFFSETTO:-0700
TZNAME:PDT
DTSTART:20230312T100000
END:DAYLIGHT
BEGIN:STANDARD
TZOFFSETFROM:-0700
TZOFFSETTO:-0800
TZNAME:PST
DTSTART:20231105T090000
END:STANDARD
BEGIN:DAYLIGHT
TZOFFSETFROM:-0800
TZOFFSETTO:-0700
TZNAME:PDT
DTSTART:20240310T100000
END:DAYLIGHT
BEGIN:STANDARD
TZOFFSETFROM:-0700
TZOFFSETTO:-0800
TZNAME:PST
DTSTART:20241103T090000
END:STANDARD
BEGIN:DAYLIGHT
TZOFFSETFROM:-0800
TZOFFSETTO:-0700
TZNAME:PDT
DTSTART:20250309T100000
END:DAYLIGHT
BEGIN:STANDARD
TZOFFSETFROM:-0700
TZOFFSETTO:-0800
TZNAME:PST
DTSTART:20251102T090000
END:STANDARD
BEGIN:DAYLIGHT
TZOFFSETFROM:-0800
TZOFFSETTO:-0700
TZNAME:PDT
DTSTART:20260308T100000
END:DAYLIGHT
BEGIN:STANDARD
TZOFFSETFROM:-0700
TZOFFSETTO:-0800
TZNAME:PST
DTSTART:20261101T090000
END:STANDARD
BEGIN:DAYLIGHT
TZOFFSETFROM:-0800
TZOFFSETTO:-0700
TZNAME:PDT
DTSTART:20270314T100000
END:DAYLIGHT
BEGIN:STANDARD
TZOFFSETFROM:-0700
TZOFFSETTO:-0800
TZNAME:PST
DTSTART:20271107T090000
END:STANDARD
END:VTIMEZONE
BEGIN:VEVENT
DTSTART;TZID=America/Vancouver:20240329T090000
DTEND;TZID=America/Vancouver:20240329T160000
DTSTAMP:20260423T044106
CREATED:20240103T180427Z
LAST-MODIFIED:20240125T215114Z
UID:6092-1711702800-1711728000@www.nanaimoequestrians.ca
SUMMARY:Easter Fund Raiser for Central Island Equestrian Center
DESCRIPTION:C.I.E.C  Presents their Annual Easter Event Featuring Horse & Pony rides! \n  \nJoin Central Island Equestrian Center on the holiday-Good Friday-March 29th form 9-4. for a day of Easter FUN! \nCASH ONLY PLEASE \n  \nHorse & pony rides $5.00\, Easter egg hunt $3.00\, Cookie decorating $4.00 each or 3/$10.00\, Face painting\, Guessing game .25 cents\, and photo booth by donation. \n  \nHAPPY EASTER!! \n 
URL:https://www.nanaimoequestrians.ca/event/easter-fund-raiser-for-central-island-equestrian-center-2/
LOCATION:Nanaimo Equestrian Association\, 2300 Bowen\, Nanaimo\, BC\, V9T 3K7\, Canada
CATEGORIES:Ongoing Events,Up Coming Events
ORGANIZER;CN="The Central Island Equestrian Center":MAILTO:gkoshea@shaw.ca
END:VEVENT
BEGIN:VEVENT
DTSTART;TZID=America/Vancouver:20240406T090000
DTEND;TZID=America/Vancouver:20240406T160000
DTSTAMP:20260423T044106
CREATED:20240315T220805Z
LAST-MODIFIED:20240405T145125Z
UID:6110-1712394000-1712419200@www.nanaimoequestrians.ca
SUMMARY:Riding to win with Fonda Munro* Sorry event cancelled due to not enough participates*
DESCRIPTION:Learn to ride the way a Judge wants to see! \n  \nHave you always wanted to know how to win a class? \nCome ride with us & learn what the Judge is looking for! \nAsk all the questions you always wanted to answers to. \n  \nMore info\, email nanaimoequestrians@gmail.com
URL:https://www.nanaimoequestrians.ca/event/riding-to-win-with-fonda-munro/
LOCATION:Nanaimo Equestrian Association\, 2300 Bowen\, Nanaimo\, BC\, V9T 3K7\, Canada
CATEGORIES:Ongoing Events,Past Events,Up Coming Events
ORGANIZER;CN="Nanaimo Equestrian Association":MAILTO:nanaimoequestrians@gmail.com
END:VEVENT
BEGIN:VEVENT
DTSTART;TZID=America/Vancouver:20240407T110000
DTEND;TZID=America/Vancouver:20240407T130000
DTSTAMP:20260423T044106
CREATED:20240405T150407Z
LAST-MODIFIED:20240405T150407Z
UID:6116-1712487600-1712494800@www.nanaimoequestrians.ca
SUMMARY:Poultry Swap April 7th 11-1
DESCRIPTION:This event is free\, come on down and see what you may find!
URL:https://www.nanaimoequestrians.ca/event/poultry-swap-april-7th-11-1/
LOCATION:Nanaimo Equestrian Association\, 2300 Bowen\, Nanaimo\, BC\, V9T 3K7\, Canada
CATEGORIES:Ongoing Events,Past Events,Up Coming Events
ORGANIZER;CN="Nanaimo Equestrian Association":MAILTO:nanaimoequestrians@gmail.com
END:VEVENT
BEGIN:VEVENT
DTSTART;VALUE=DATE:20240505
DTEND;VALUE=DATE:20240506
DTSTAMP:20260423T044106
CREATED:20240312T160543Z
LAST-MODIFIED:20240313T154659Z
UID:6096-1714867200-1714953599@www.nanaimoequestrians.ca
SUMMARY:NEA open show
DESCRIPTION:Nanaimo Equestrian Association\nOpen Show \nSunday May 5\, 2024 \nFun Show for all equines ridden/driven by children or adults. \nShowmanship\, in-Hand Agility\, Trail\, Lead Line\, Costume\, English\, Western\, Ridden Games\, Driving derby \nAll competitors and owners of horses must be member of Horse Council BC to participate. \n*Prize list and Entry forms are on our home page * \n 
URL:https://www.nanaimoequestrians.ca/event/nea-open-show/
LOCATION:Nanaimo Equestrian Association\, 2300 Bowen\, Nanaimo\, BC\, V9T 3K7\, Canada
CATEGORIES:Ongoing Events,Past Events,Up Coming Events
ORGANIZER;CN="Nanaimo Equestrian Association":MAILTO:nanaimoequestrians@gmail.com
END:VEVENT
BEGIN:VEVENT
DTSTART;TZID=America/Vancouver:20241012T090000
DTEND;TZID=America/Vancouver:20241012T120000
DTSTAMP:20260423T044106
CREATED:20240930T175520Z
LAST-MODIFIED:20240930T175934Z
UID:6125-1728723600-1728734400@www.nanaimoequestrians.ca
SUMMARY:NEA October 12/24 Tack Sale  9am-12pm  $10 per spot
DESCRIPTION:If you would like to reserve a spot\, please email Nanaimoequestrians@gmail.com \n  \nThank you\, \n  \nNEA
URL:https://www.nanaimoequestrians.ca/event/nea-tack-sale-9am-12pm-10-per-spot/
LOCATION:Nanaimo Equestrian Association\, 2300 Bowen\, Nanaimo\, BC\, V9T 3K7\, Canada
CATEGORIES:Up Coming Events
ORGANIZER;CN="Nanaimo Equestrian Association":MAILTO:nanaimoequestrians@gmail.com
END:VEVENT
BEGIN:VEVENT
DTSTART;VALUE=DATE:20241020
DTEND;VALUE=DATE:20241021
DTSTAMP:20260423T044106
CREATED:20240930T180615Z
LAST-MODIFIED:20240930T181023Z
UID:6130-1729382400-1729468799@www.nanaimoequestrians.ca
SUMMARY:Vancouver Island Obstacle Series Last show in the series Oct 20/24
DESCRIPTION:Awards for overall Series Champion \nPeewee/Youth/Adult \n& prizes for the best Halloween costume. \nPlease register per link below by Oct 17th. \n  \nRegister here \n  \n 
URL:https://www.nanaimoequestrians.ca/event/vancouver-island-obstacle-series-last-show-in-the-series-oct-20-24/
LOCATION:Nanaimo Equestrian Association\, 2300 Bowen\, Nanaimo\, BC\, V9T 3K7\, Canada
CATEGORIES:Up Coming Events
ORGANIZER;CN="Nanaimo Equestrian Association":MAILTO:nanaimoequestrians@gmail.com
END:VEVENT
BEGIN:VEVENT
DTSTART;VALUE=DATE:20250701
DTEND;VALUE=DATE:20250702
DTSTAMP:20260423T044106
CREATED:20250528T030331Z
LAST-MODIFIED:20250528T030429Z
UID:6147-1751328000-1751414399@www.nanaimoequestrians.ca
SUMMARY:Jumping day with Glynis Oshea all day
DESCRIPTION:
URL:https://www.nanaimoequestrians.ca/event/jumping-day-with-glynis-oshea-all-day/
LOCATION:Nanaimo Equestrian Association\, 2300 Bowen\, Nanaimo\, BC\, V9T 3K7\, Canada
CATEGORIES:Up Coming Events
END:VEVENT
BEGIN:VEVENT
DTSTART;VALUE=DATE:20250817
DTEND;VALUE=DATE:20250818
DTSTAMP:20260423T044106
CREATED:20250815T033537Z
LAST-MODIFIED:20250815T033537Z
UID:6153-1755388800-1755475199@www.nanaimoequestrians.ca
SUMMARY:Working Equitation schooling show August 17/25
DESCRIPTION:Dressage and Western Dressage schooling show. \n  \nContact Monique Fraser for more information at rosewyn2@gmail.com
URL:https://www.nanaimoequestrians.ca/event/working-equitation-schooling-show-august-17-25/
LOCATION:Nanaimo Equestrian Association\, 2300 Bowen\, Nanaimo\, BC\, V9T 3K7\, Canada
CATEGORIES:Ongoing Events,Up Coming Events
END:VEVENT
BEGIN:VEVENT
DTSTART;VALUE=DATE:20250909
DTEND;VALUE=DATE:20250914
DTSTAMP:20260423T044106
CREATED:20250315T215340Z
LAST-MODIFIED:20250315T222215Z
UID:6140-1757376000-1757807999@www.nanaimoequestrians.ca
SUMMARY:BC 55+ Games Equestrian Event!  Sept 9-13/25
DESCRIPTION:The 55+ Games are an important part of the BC sport system and the largest annual multi-sport gathering event in the Province.
URL:https://www.nanaimoequestrians.ca/event/bc-55-games-equestrian-event/
LOCATION:Nanaimo Equestrian Association\, 2300 Bowen\, Nanaimo\, BC\, V9T 3K7\, Canada
CATEGORIES:Ongoing Events,Up Coming Events
ORGANIZER;CN="Nanaimo Equestrian Association":MAILTO:nanaimoequestrians@gmail.com
END:VEVENT
BEGIN:VEVENT
DTSTART;VALUE=DATE:20250919
DTEND;VALUE=DATE:20250922
DTSTAMP:20260423T044106
CREATED:20250820T150849Z
LAST-MODIFIED:20250820T150849Z
UID:6156-1758240000-1758499199@www.nanaimoequestrians.ca
SUMMARY:THE VIEX!  Your Country Fair!
DESCRIPTION:A Celebration of Community\, Culture\, and Entertainment!\n\n\n\n\nThe Vancouver Island Exhibition Association is excited to welcome you to Nanaimo’s 2025 Country Fair! With over 20\,000 visitors each year\, the VIEX is a celebration of community\, culture\, and entertainment. Whether you’re a longtime fairgoer or a first-time visitor\, there’s something for everyone at this year’s event! \nGet ready for the return of some of our most thrilling attractions\, including the awe-inspiring Global FMX freestyle motocross show\, the fan-favorite President’s Choice Super Dogs\, the legendary Yukon Dan Gold Panning experience\, and an exciting lineup of Main Stage Entertainment. Plus\, new for 2025\, we are thrilled to introduce the BC Country Music Association Stage\, showcasing incredible homegrown talent and rising stars in Canadian country music! \nOur theme\, “Proudly Local\, Wildly Canadian\,” celebrates the hardworking artisans\, performers\, and businesses that make our region unique. From live music and adrenaline-pumping performances to interactive exhibits and delicious local eats\, the VIEX is the perfect place to experience the best of Vancouver Island’s rich culture and community spirit. \nThe fair wouldn’t be possible without the dedication of our volunteers\, the generosity of our sponsors\, and the enthusiasm of our visitors. Whether you’re coming to cheer on the performers\, explore the exhibits\, or simply enjoy a fun-filled day with family and friends\, we can’t wait to welcome you to this unforgettable event. \nJoin us for three days of non-stop excitement\, unforgettable entertainment\, and cherished traditions. See you at the fair!
URL:https://www.nanaimoequestrians.ca/event/the-viex-your-country-fair/
LOCATION:Nanaimo Equestrian Association\, 2300 Bowen\, Nanaimo\, BC\, V9T 3K7\, Canada
CATEGORIES:Ongoing Events,Up Coming Events
ORGANIZER;CN="VIEX":MAILTO:infor@Viex.ca
END:VEVENT
BEGIN:VEVENT
DTSTART;VALUE=DATE:20251018
DTEND;VALUE=DATE:20251019
DTSTAMP:20260423T044106
CREATED:20250807T170623Z
LAST-MODIFIED:20250807T170703Z
UID:6149-1760745600-1760831999@www.nanaimoequestrians.ca
SUMMARY:Island Invitational Horse Show- English/Western flat classes
DESCRIPTION:Let’s have some horse fun! \n  \nHorse Show! \nOctober 18th – Saturday at NEA! \nPlease email kindomstables1@gmail.com for show entries. \n  \n 
URL:https://www.nanaimoequestrians.ca/event/island-invitational-horse-show-english-western-flat-classes/
LOCATION:Nanaimo Equestrian Association\, 2300 Bowen\, Nanaimo\, BC\, V9T 3K7\, Canada
CATEGORIES:Ongoing Events,Up Coming Events
ORGANIZER;CN="Island Invitational Horse Show":MAILTO:kingdomstables1@gmail.com
END:VEVENT
BEGIN:VEVENT
DTSTART;TZID=America/Vancouver:20260321T100000
DTEND;TZID=America/Vancouver:20260321T120000
DTSTAMP:20260423T044106
CREATED:20260305T155638Z
LAST-MODIFIED:20260305T155804Z
UID:6187-1774087200-1774094400@www.nanaimoequestrians.ca
SUMMARY:Poultry Swap! Come on down! $2.00 entry
DESCRIPTION: 
URL:https://www.nanaimoequestrians.ca/event/poultry-swap-come-on-down/
LOCATION:Nanaimo Equestrian Association\, 2300 Bowen\, Nanaimo\, BC\, V9T 3K7\, Canada
CATEGORIES:Ongoing Events,Past Events,Up Coming Events
ORGANIZER;CN="Nanaimo Equestrian Association":MAILTO:nanaimoequestrians@gmail.com
END:VEVENT
BEGIN:VEVENT
DTSTART;VALUE=DATE:20260411
DTEND;VALUE=DATE:20260413
DTSTAMP:20260423T044106
CREATED:20260305T160023Z
LAST-MODIFIED:20260305T160136Z
UID:6190-1775865600-1776038399@www.nanaimoequestrians.ca
SUMMARY:Jane Stone Working Equitation Clinic
DESCRIPTION:$225.00 for the weekend\, $30.00 audit fee
URL:https://www.nanaimoequestrians.ca/event/jane-stone-working-equitation-clinic/
LOCATION:Nanaimo Equestrian Association\, 2300 Bowen\, Nanaimo\, BC\, V9T 3K7\, Canada
CATEGORIES:Ongoing Events,Past Events,Up Coming Events
ORGANIZER;CN="Nanaimo Equestrian Association":MAILTO:nanaimoequestrians@gmail.com
END:VEVENT
BEGIN:VEVENT
DTSTART;TZID=America/Vancouver:20260509T100000
DTEND;TZID=America/Vancouver:20260509T120000
DTSTAMP:20260423T044106
CREATED:20260414T153146Z
LAST-MODIFIED:20260414T153146Z
UID:6241-1778320800-1778328000@www.nanaimoequestrians.ca
SUMMARY:Farm Swap $2.00 entry fee
DESCRIPTION:One day only-Farm Sale!  BUY-SELL-TRADE \n 
URL:https://www.nanaimoequestrians.ca/event/farm-swap-2-00-entry-fee/
LOCATION:Nanaimo Equestrian Association\, 2300 Bowen\, Nanaimo\, BC\, V9T 3K7\, Canada
CATEGORIES:Ongoing Events,Past Events,Up Coming Events
ORGANIZER;CN="Nanaimo Equestrian Association":MAILTO:nanaimoequestrians@gmail.com
END:VEVENT
BEGIN:VEVENT
DTSTART;VALUE=DATE:20260515
DTEND;VALUE=DATE:20260518
DTSTAMP:20260423T044106
CREATED:20260305T155310Z
LAST-MODIFIED:20260305T155310Z
UID:6185-1778803200-1779062399@www.nanaimoequestrians.ca
SUMMARY:Jodie Moore Ranch Riding Clinic!
DESCRIPTION:May 15/16/17th \n$375.00 participants\, $50.00 Audits \n1-1 time with Jodie\, Groups. \nLast day ride Patterns & be Judged.
URL:https://www.nanaimoequestrians.ca/event/jodie-moore-ranch-riding-clinic/
LOCATION:Nanaimo Equestrian Association\, 2300 Bowen\, Nanaimo\, BC\, V9T 3K7\, Canada
CATEGORIES:Ongoing Events,Past Events,Up Coming Events
ORGANIZER;CN="Nanaimo Equestrian Association":MAILTO:nanaimoequestrians@gmail.com
END:VEVENT
BEGIN:VEVENT
DTSTART;TZID=America/Vancouver:20261010T100000
DTEND;TZID=America/Vancouver:20261010T160000
DTSTAMP:20260423T044106
CREATED:20260413T154240Z
LAST-MODIFIED:20260413T160143Z
UID:6236-1791626400-1791648000@www.nanaimoequestrians.ca
SUMMARY:Elder Dog Canada Paws in the Park
DESCRIPTION:Come on down and join Elder Dog Canada for a dog fair\, with information booths\, dog pared\, obedience demos and speakers! \n  \nElderDog Canada is a national\, registered charitable organization dedicated to ageing people\, ageing dogs\, and the important connection they enjoy. Our purposes are to: \n\nAssist and support older adults in the care and well-being of their canine companions;\nPromote the welfare of older dogs whose lives have been disrupted due to illness\, relocation or death of a human companion;\nEducate about the human-animal bond in general and the significant role of companion animals in the health and well-being of seniors;\nSupport and conduct research into the human-animal bond with a focus on seniors and canine companionship.
URL:https://www.nanaimoequestrians.ca/event/elder-dog-canada-paws-in-the-park/
LOCATION:Nanaimo Equestrian Association\, 2300 Bowen\, Nanaimo\, BC\, V9T 3K7\, Canada
CATEGORIES:Ongoing Events,Past Events,Up Coming Events
ORGANIZER;CN="Elderdog Canada":MAILTO:info@elderdog.ca
END:VEVENT
END:VCALENDAR